BEGIN:VCALENDAR
VERSION:2.0
PRODID:-//Cornerstone Christian Church - ECPv4.6.26.1//NONSGML v1.0//EN
CALSCALE:GREGORIAN
METHOD:PUBLISH
X-WR-CALNAME:Cornerstone Christian Church
X-ORIGINAL-URL:http://homecommunityworld.com.au
X-WR-CALDESC:Events for Cornerstone Christian Church
BEGIN:VEVENT
DTSTART;TZID=Australia/Brisbane:20190217T093000
DTEND;TZID=Australia/Brisbane:20190217T230000
DTSTAMP:20190301T163311
CREATED:20181102T052654Z
LAST-MODIFIED:20181123T053606Z
UID:1797-1550395800-1550444400@homecommunityworld.com.au
SUMMARY:Sunday 9.30am service
DESCRIPTION:We meet every Sunday at 9.30am\, at 81 Mina Parade\, Alderley. \n9.30am works for most people. It’s more family friendly\, with activities for pre-school and primary school-aged children. People generally stay around afterwards and chat over coffee\, which is a good time to connect and make friends. \n
URL:http://homecommunityworld.com.au/event/sunday-9-30am-service/2019-02-17/
LOCATION:Auditorium\, Cornerstone Centre\, 81 Mina Parade Alderley\, Brisbane\, Queensland\, 4051\, Australia
ATTACH;FMTTYPE=image/png:http://homecommunityworld.com.au/wp-content/uploads/2018/11/EVENT-WEBPAGE-IMAGES-3.png
END:VEVENT
BEGIN:VEVENT
DTSTART;TZID=Australia/Brisbane:20190217T183000
DTEND;TZID=Australia/Brisbane:20190217T203000
DTSTAMP:20190301T163311
CREATED:20181109T030929Z
LAST-MODIFIED:20181109T030929Z
UID:2333-1550428200-1550435400@homecommunityworld.com.au
SUMMARY:The Living Room
DESCRIPTION:6.30pm every Sunday at Albion Baptist\, 14 McLennan St Albion \n
URL:http://homecommunityworld.com.au/event/the-living-room/2019-02-17/
LOCATION:Albion Baptist Church\, 14 McLennan Street\, Albion\, 14 McLennan Street\, Albion\, Brisbane\, Queensland\, 4051\, Australia
ATTACH;FMTTYPE=image/png:http://homecommunityworld.com.au/wp-content/uploads/2018/11/EVENT-WEBPAGE-IMAGES-2.png
END:VEVENT
END:VCALENDAR