BEGIN:VCALENDAR
VERSION:2.0
PRODID:-//Cornerstone Christian Church - ECPv4.6.26.1//NONSGML v1.0//EN
CALSCALE:GREGORIAN
METHOD:PUBLISH
X-WR-CALNAME:Cornerstone Christian Church
X-ORIGINAL-URL:http://homecommunityworld.com.au
X-WR-CALDESC:Events for Cornerstone Christian Church
BEGIN:VEVENT
DTSTART;TZID=Australia/Brisbane:20190222T090000
DTEND;TZID=Australia/Brisbane:20190222T110000
DTSTAMP:20190301T163547
CREATED:20190206T025456Z
LAST-MODIFIED:20190206T025456Z
UID:2553-1550826000-1550833200@homecommunityworld.com.au
SUMMARY:Mainly Music
DESCRIPTION:At Mainly Music\, we have a lot of fun playing and learning through music\, rhythm and rhyme. \nComing along to our Mainly Music sessions is a great way to connect with other local families and to kick-start early learning in a relaxed environment. \nMainly Music is a program run for all children from 0 to pre-Prep. Our community of parents and children gather together every Friday at 9.30am during school terms. \nThe cost of joining a session is $5 per family\, per week (free trial for first time visitors). We have no waiting list so you are welcome to just show up and join in with your little person. \nEvery week after the music\, our team of volunteers provide a healthy morning tea and a safe and enclosed play area for children to play while carers have an opportunity to connect over a cup of tea or coffee. \nTo keep up to date with our latest news\, events and session information check us out on Facebook. \n
URL:http://homecommunityworld.com.au/event/mainly-music-9/2019-02-22/
LOCATION:Cornerstone Centre\, 81 Mina Parade\, Alderley\, Queensland\, 4051\, Australia
ATTACH;FMTTYPE=image/jpeg:http://homecommunityworld.com.au/wp-content/uploads/2019/02/Mainly-Music.jpg
END:VEVENT
BEGIN:VEVENT
DTSTART;TZID=Australia/Brisbane:20190222T183000
DTEND;TZID=Australia/Brisbane:20190222T213000
DTSTAMP:20190301T163547
CREATED:20190221T003828Z
LAST-MODIFIED:20190221T003828Z
UID:2709-1550860200-1550871000@homecommunityworld.com.au
SUMMARY:Fusion Creative Night
DESCRIPTION:This Friday night at Fusion we’re getting together to express ourselves. There’s going to be a jam session\, and visual art projects. As well as all the normal stuff like handball\, hangs and dinner. \n
URL:http://homecommunityworld.com.au/event/fusion-creative-night/
LOCATION:Cornerstone Centre\, 81 Mina Parade\, Alderley\, Queensland\, 4051\, Australia
ATTACH;FMTTYPE=image/png:http://homecommunityworld.com.au/wp-content/uploads/2019/02/Service-announcements-3-8.png
END:VEVENT
END:VCALENDAR